BEGIN:VCALENDAR
VERSION:2.0
PRODID:-//96.1 WKZQ - ECPv5.6.0//NONSGML v1.0//EN
CALSCALE:GREGORIAN
METHOD:PUBLISH
X-WR-CALNAME:96.1 WKZQ
X-ORIGINAL-URL:https://www.961wkzq.com
X-WR-CALDESC:Events for 96.1 WKZQ
BEGIN:VTIMEZONE
TZID:America/Indiana/Indianapolis
BEGIN:DAYLIGHT
TZOFFSETFROM:-0500
TZOFFSETTO:-0400
TZNAME:EDT
DTSTART:20260308T070000
END:DAYLIGHT
BEGIN:STANDARD
TZOFFSETFROM:-0400
TZOFFSETTO:-0500
TZNAME:EST
DTSTART:20261101T060000
END:STANDARD
END:VTIMEZONE
BEGIN:VEVENT
DTSTART;TZID=America/Indiana/Indianapolis:20260420T180000
DTEND;TZID=America/Indiana/Indianapolis:20260420T200000
DTSTAMP:20260420T004532
CREATED:20260305T124418Z
LAST-MODIFIED:20260316T100223Z
UID:76136-1776708000-1776715200@www.961wkzq.com
SUMMARY:Joe and Bro Music Bingo
DESCRIPTION:Joe and Bro Music Bingo \nEvery Monday\, 6–8 PM \nAt Crooked Hammock Brewery\, Barefoot Landing – North Myrtle Beach \nPlay 4 rounds of themed music bingo \nPrizes include: Concert Tickets\, Passes to Surfside Bowling and Various Gift Cards
URL:https://www.961wkzq.com/event/joe-and-bro-music-bingo-2/
LOCATION:Crooked Hammock Brewery\, 4924 Hwy 17 S\, North Myrtle Beach\, SC\, 29582\, United States
CATEGORIES:Community,Community Connections,On The Streets
ATTACH;FMTTYPE=image/png:https://dehayf5mhw1h7.cloudfront.net/wp-content/uploads/sites/2334/2026/03/05124418/joe-and-bro-music-bingo.png
END:VEVENT
BEGIN:VEVENT
DTSTART;TZID=America/Indiana/Indianapolis:20260421T180000
DTEND;TZID=America/Indiana/Indianapolis:20260421T200000
DTSTAMP:20260420T004532
CREATED:20260105T171749Z
LAST-MODIFIED:20260407T140340Z
UID:76445-1776794400-1776801600@www.961wkzq.com
SUMMARY:Tap That Trivia
DESCRIPTION:Tap That Trivia \nEvery Tuesday\, 6–8 PM \nCrooked Hammock Brewery\, Barefoot Landing – North Myrtle Beach \nPrizes include: Prizes include: Concert Tickets\, Passes to Surfside Bowling and Various Gift Cards
URL:https://www.961wkzq.com/event/tap-that-trivia-8/2026-04-21/
LOCATION:Crooked Hammock Brewery\, 4924 Hwy 17 S\, North Myrtle Beach\, SC\, 29582\, United States
CATEGORIES:Community,On The Streets
ATTACH;FMTTYPE=image/png:https://dehayf5mhw1h7.cloudfront.net/wp-content/uploads/sites/2334/2026/04/05171749/tap-that-trivia-webslide-1-1.png
END:VEVENT
BEGIN:VEVENT
DTSTART;TZID=America/Indiana/Indianapolis:20260422T193000
DTEND;TZID=America/Indiana/Indianapolis:20260422T233000
DTSTAMP:20260420T004532
CREATED:20260305T155535Z
LAST-MODIFIED:20260305T155619Z
UID:76019-1776886200-1776900600@www.961wkzq.com
SUMMARY:Styx
DESCRIPTION:Styx \nNorth Charleston Performing Arts Center \nWednesday 4/22/26 \nCLICK FOR MORE INFORMATION!
URL:https://www.961wkzq.com/event/styx/
LOCATION:North Charleston Performing Arts Center\, 5001 Coliseum Dr\, North Charleston\, SC\, 29418\, United States
CATEGORIES:Community,Community Connections,Concerts
ATTACH;FMTTYPE=image/png:https://dehayf5mhw1h7.cloudfront.net/wp-content/uploads/sites/2334/2026/03/05155535/styx.png
ORGANIZER;CN="AEG":MAILTO:accessibility@aegpresents.com
END:VEVENT
BEGIN:VEVENT
DTSTART;TZID=America/Indiana/Indianapolis:20260424T190000
DTEND;TZID=America/Indiana/Indianapolis:20260424T233000
DTSTAMP:20260420T004532
CREATED:20260414T150110Z
LAST-MODIFIED:20260414T150143Z
UID:76565-1777057200-1777073400@www.961wkzq.com
SUMMARY:The Coasters\, The Drifters & Frankie Pizarro Former Lead Singer of The Platters
DESCRIPTION:The Coasters\, The Drifters & Frankie Pizarro Former Lead Singer of The Platters\n \nBringing together legendary voices and iconic songs that helped define rock ’n’ roll and doo-wop\n \nAlabama Theatre \nFriday 4/24/26…Doors open at 6PM and show at 7PM \nCLICK FOR MORE INFORMATION AND TO BUY TICKETS!
URL:https://www.961wkzq.com/event/the-coasters-the-drifters-frankie-pizarro-former-lead-singer-of-the-platters/
LOCATION:Alabama Theatre\, 4750 Hwy 17 S.\, North Myrtle Beach\, SC\, 29582\, United States
CATEGORIES:Community Connections,Concerts
ATTACH;FMTTYPE=image/png:https://dehayf5mhw1h7.cloudfront.net/wp-content/uploads/sites/2334/2026/04/14150110/the-coasters-the-drifters-frankie-pizarro-former-lead-singer-of-the-platters.png
END:VEVENT
BEGIN:VEVENT
DTSTART;TZID=America/Indiana/Indianapolis:20260425T190000
DTEND;TZID=America/Indiana/Indianapolis:20260425T230000
DTSTAMP:20260420T004532
CREATED:20251215T151403Z
LAST-MODIFIED:20260325T094523Z
UID:74842-1777143600-1777158000@www.961wkzq.com
SUMMARY:PRIDE & Punchlines
DESCRIPTION:Comedy Show & Fundraiser presented by Careteam+ benefitting Pawleys Island PFLAG Family & Youth Services \nFeaturing Lace Larrabee from America’s Got Talent… hosted by Alan Massenburg who was featured on the Drew Barrymore show\, and 4 local & upstate comedians!
URL:https://www.961wkzq.com/event/pride-punchlines-2/
LOCATION:Winyah Auditorium\, 1200 Highmarket St\, Georgetown\, SC\, 29440\, United States
CATEGORIES:Community Connections
ATTACH;FMTTYPE=image/png:https://dehayf5mhw1h7.cloudfront.net/wp-content/uploads/sites/2334/2026/02/15151403/pride-punchlines-1.png
END:VEVENT
BEGIN:VEVENT
DTSTART;TZID=America/Indiana/Indianapolis:20260426T183000
DTEND;TZID=America/Indiana/Indianapolis:20260426T233000
DTSTAMP:20260420T004532
CREATED:20251117T154703Z
LAST-MODIFIED:20260413T092511Z
UID:74543-1777228200-1777246200@www.961wkzq.com
SUMMARY:Blackberry Smoke
DESCRIPTION:Blackberry Smoke \nHouse of Blues Myrtle Beach \nSunday 4/26/26 \nClick for more information and to buy tickets!
URL:https://www.961wkzq.com/event/blackberry-smoke/
LOCATION:House of Blues Myrtle Beach
CATEGORIES:Concerts
ATTACH;FMTTYPE=image/png:https://dehayf5mhw1h7.cloudfront.net/wp-content/uploads/sites/2334/2025/11/17154703/blackberry-smoke.png
END:VEVENT
BEGIN:VEVENT
DTSTART;TZID=America/Indiana/Indianapolis:20260427T180000
DTEND;TZID=America/Indiana/Indianapolis:20260427T200000
DTSTAMP:20260420T004532
CREATED:20260305T124418Z
LAST-MODIFIED:20260316T100246Z
UID:76139-1777312800-1777320000@www.961wkzq.com
SUMMARY:Joe and Bro Music Bingo
DESCRIPTION:Joe and Bro Music Bingo \nEvery Monday\, 6–8 PM \nAt Crooked Hammock Brewery\, Barefoot Landing – North Myrtle Beach \nPlay 4 rounds of themed music bingo \nPrizes include: Concert Tickets\, Passes to Surfside Bowling and Various Gift Cards
URL:https://www.961wkzq.com/event/joe-and-bro-music-bingo-3/
LOCATION:Crooked Hammock Brewery\, 4924 Hwy 17 S\, North Myrtle Beach\, SC\, 29582\, United States
CATEGORIES:Community,Community Connections,On The Streets
ATTACH;FMTTYPE=image/png:https://dehayf5mhw1h7.cloudfront.net/wp-content/uploads/sites/2334/2026/03/05124418/joe-and-bro-music-bingo.png
END:VEVENT
BEGIN:VEVENT
DTSTART;TZID=America/Indiana/Indianapolis:20260428T080000
DTEND;TZID=America/Indiana/Indianapolis:20260428T170000
DTSTAMP:20260420T004532
CREATED:20260407T152631Z
LAST-MODIFIED:20260407T152947Z
UID:76484-1777363200-1777395600@www.961wkzq.com
SUMMARY:Tacos & Tallboys Tuesday with the Myrtle Beach Pelicans
DESCRIPTION:Enjoy $2 Tacos and $3 Tallboys every Tuesday (beginning 4/28) courtesy of Corona\, Fiesta Mexicana\, WMBF News and 96.1 WKZQ. Tallboys offered are Corona & Modelo and will run for 2 hours beginning when gates open. Tacos are available while supplies last. Both items can be found in left field on the Budweiser Bowtie Deck. \nCLICK FOR TICKET INFORMATION!
URL:https://www.961wkzq.com/event/tacos-tallboys-tuesday-with-the-myrtle-beach-pelicans/
LOCATION:Pelicans Ballpark\, 1251 21st Ave N\, Myrtle Beach\, SC\, 29577\, United States
CATEGORIES:Community,On The Streets
ATTACH;FMTTYPE=image/png:https://dehayf5mhw1h7.cloudfront.net/wp-content/uploads/sites/2334/2026/03/25055347/tacos-tallboys-tuesday-5.png
END:VEVENT
BEGIN:VEVENT
DTSTART;TZID=America/Indiana/Indianapolis:20260428T180000
DTEND;TZID=America/Indiana/Indianapolis:20260428T200000
DTSTAMP:20260420T004532
CREATED:20260105T171749Z
LAST-MODIFIED:20260407T140340Z
UID:76446-1777399200-1777406400@www.961wkzq.com
SUMMARY:Tap That Trivia
DESCRIPTION:Tap That Trivia \nEvery Tuesday\, 6–8 PM \nCrooked Hammock Brewery\, Barefoot Landing – North Myrtle Beach \nPrizes include: Prizes include: Concert Tickets\, Passes to Surfside Bowling and Various Gift Cards
URL:https://www.961wkzq.com/event/tap-that-trivia-8/2026-04-28/
LOCATION:Crooked Hammock Brewery\, 4924 Hwy 17 S\, North Myrtle Beach\, SC\, 29582\, United States
CATEGORIES:Community,On The Streets
ATTACH;FMTTYPE=image/png:https://dehayf5mhw1h7.cloudfront.net/wp-content/uploads/sites/2334/2026/04/05171749/tap-that-trivia-webslide-1-1.png
END:VEVENT
BEGIN:VEVENT
DTSTART;TZID=America/Indiana/Indianapolis:20260428T193000
DTEND;TZID=America/Indiana/Indianapolis:20260428T233000
DTSTAMP:20260420T004532
CREATED:20260316T104114Z
LAST-MODIFIED:20260316T104140Z
UID:76149-1777404600-1777419000@www.961wkzq.com
SUMMARY:Willie Nelson & Family
DESCRIPTION:Willie Nelson & Family\n\nWith special guest Drayton Farley \n\nLive Oak Bank Pavilion Wilmington\, NC\n\nTuesday 4/28/26…Part of REEDS Jewelers concert series \n\nCLICK FOR MORE INFORMATION!
URL:https://www.961wkzq.com/event/willie-nelson-family/
LOCATION:Live Oak Bank Pavilion Wilmington
CATEGORIES:Community,Community Connections,Concerts
ATTACH;FMTTYPE=image/png:https://dehayf5mhw1h7.cloudfront.net/wp-content/uploads/sites/2334/2026/03/16104114/willie-nelso.png
END:VEVENT
BEGIN:VEVENT
DTSTART;TZID=America/Indiana/Indianapolis:20260508T180000
DTEND;TZID=America/Indiana/Indianapolis:20260508T233000
DTSTAMP:20260420T004532
CREATED:20251216T151926Z
LAST-MODIFIED:20260102T132000Z
UID:74880-1778263200-1778283000@www.961wkzq.com
SUMMARY:Bloodywood
DESCRIPTION:Bloodywood: System of a Brown Tour 2026 \nHouse of Blues Myrtle Beach \nFriday 5/8/26 \nDoors at 6PM Show at 7PM \nClick for more information and to buy tickets!
URL:https://www.961wkzq.com/event/bloodywood/
LOCATION:House of Blues Myrtle Beach
CATEGORIES:Concerts
ATTACH;FMTTYPE=image/png:https://dehayf5mhw1h7.cloudfront.net/wp-content/uploads/sites/2334/2025/12/16101605/bloodywood-webslide.png
END:VEVENT
BEGIN:VEVENT
DTSTART;TZID=America/Indiana/Indianapolis:20260510T183000
DTEND;TZID=America/Indiana/Indianapolis:20260510T233000
DTSTAMP:20260420T004532
CREATED:20260117T125945Z
LAST-MODIFIED:20260117T130011Z
UID:75383-1778437800-1778455800@www.961wkzq.com
SUMMARY:Black Label Society
DESCRIPTION:Black Label Society  \nWith Zakk Sabbath and Dark Angel \nHouse of Blues Myrtle Beach \nSunday 5/10/26 Doors Open at 6:30PM and Show at 7:30PM \nCLICK FOR MORE INFO AND TO BUY TICKETS!
URL:https://www.961wkzq.com/event/black-label-society/
LOCATION:House of Blues Myrtle Beach
CATEGORIES:Community,Community Connections,Concerts
ATTACH;FMTTYPE=image/png:https://dehayf5mhw1h7.cloudfront.net/wp-content/uploads/sites/2334/2026/01/17125945/black-label-society.png
END:VEVENT
BEGIN:VEVENT
DTSTART;TZID=America/Indiana/Indianapolis:20260512T080000
DTEND;TZID=America/Indiana/Indianapolis:20260512T170000
DTSTAMP:20260420T004532
CREATED:20260407T160004Z
LAST-MODIFIED:20260407T160004Z
UID:76486-1778572800-1778605200@www.961wkzq.com
SUMMARY:Tacos & Tallboys Tuesday with the Myrtle Beach Pelicans
DESCRIPTION:Enjoy $2 Tacos and $3 Tallboys every Tuesday (beginning 4/28) courtesy of Corona\, Fiesta Mexicana\, WMBF News and 96.1 WKZQ. Tallboys offered are Corona & Modelo and will run for 2 hours beginning when gates open. Tacos are available while supplies last. Both items can be found in left field on the Budweiser Bowtie Deck. \nCLICK FOR TICKET INFORMATION!
URL:https://www.961wkzq.com/event/tacos-tallboys-tuesday-with-the-myrtle-beach-pelicans-2/
LOCATION:Pelicans Ballpark\, 1251 21st Ave N\, Myrtle Beach\, SC\, 29577\, United States
CATEGORIES:Community,On The Streets
ATTACH;FMTTYPE=image/png:https://dehayf5mhw1h7.cloudfront.net/wp-content/uploads/sites/2334/2026/03/25055347/tacos-tallboys-tuesday-5.png
END:VEVENT
BEGIN:VEVENT
DTSTART;TZID=America/Indiana/Indianapolis:20260516T190000
DTEND;TZID=America/Indiana/Indianapolis:20260516T233000
DTSTAMP:20260420T004532
CREATED:20260202T153426Z
LAST-MODIFIED:20260202T153426Z
UID:75537-1778958000-1778974200@www.961wkzq.com
SUMMARY:Godsmack and Stone Temple Pilots
DESCRIPTION:Godsmack – The Rise of Rock World Tour 2026 \nwith special guests Stone Temple Pilots\, Dorothy \nCoastal Credit Union Music Park Raleigh  \nSaturday 5/16/26 \nCLICK FOR MORE INFO AND TO BUY TICKETS!
URL:https://www.961wkzq.com/event/godsmack-and-stone-temple-pilots/
LOCATION:Coastal Credit Union Music Park Raleigh\, 3801 Rock Quarry Rd\, Raleigh\, NC\, 27610\, United States
CATEGORIES:Concerts
ATTACH;FMTTYPE=image/png:https://dehayf5mhw1h7.cloudfront.net/wp-content/uploads/sites/2334/2026/02/02050112/godsmack-1.png
END:VEVENT
BEGIN:VEVENT
DTSTART;TZID=America/Indiana/Indianapolis:20260516T190000
DTEND;TZID=America/Indiana/Indianapolis:20260516T233000
DTSTAMP:20260420T004532
CREATED:20260223T130351Z
LAST-MODIFIED:20260223T130421Z
UID:75799-1778958000-1778974200@www.961wkzq.com
SUMMARY:Molly Hatchet
DESCRIPTION:Molly Hatchet \nHouse of Blues Myrtle Beach \nSaturday 5/16/26 Doors open: 7PM Show: 8PM \nCLICK FOR INFORMATION AND TO BUY TICKETS!
URL:https://www.961wkzq.com/event/molly-hatchet/
LOCATION:House of Blues Myrtle Beach
CATEGORIES:Community,Community Connections,Concerts
ATTACH;FMTTYPE=image/png:https://dehayf5mhw1h7.cloudfront.net/wp-content/uploads/sites/2334/2026/02/23130351/molly-hatchet-2.png
END:VEVENT
BEGIN:VEVENT
DTSTART;TZID=America/Indiana/Indianapolis:20260517T190000
DTEND;TZID=America/Indiana/Indianapolis:20260517T230000
DTSTAMP:20260420T004532
CREATED:20260115T143023Z
LAST-MODIFIED:20260115T143120Z
UID:75357-1779044400-1779058800@www.961wkzq.com
SUMMARY:Pitbull
DESCRIPTION:
URL:https://www.961wkzq.com/event/pitbull/
LOCATION:Credit One Stadium\, 7596\, 161 Seven Farms Drive\, Charleston\, SC\, 29492\, United States
ATTACH;FMTTYPE=image/png:https://dehayf5mhw1h7.cloudfront.net/wp-content/uploads/sites/2334/2026/01/15143023/pitbull-web.png
END:VEVENT
BEGIN:VEVENT
DTSTART;TZID=America/Indiana/Indianapolis:20260521T180000
DTEND;TZID=America/Indiana/Indianapolis:20260521T233000
DTSTAMP:20260420T004532
CREATED:20260416T094320Z
LAST-MODIFIED:20260416T094320Z
UID:76583-1779386400-1779406200@www.961wkzq.com
SUMMARY:Iration
DESCRIPTION:Iration – Where It All Began Summer Tour 2026\n\nWith special guests Tribal Seeds\, Bumpin Uglies\, Artikal Sound System \n\nFirefly Distillery N. Charleston \n\nTuesday 5/21/26\n\nCLICK FOR MORE INFORMATION!
URL:https://www.961wkzq.com/event/iration/
LOCATION:Firefly Distillery\, 4201 Spruill Ave\, North Charleston\, SC\, 29405\, United States
CATEGORIES:Concerts
ATTACH;FMTTYPE=image/png:https://dehayf5mhw1h7.cloudfront.net/wp-content/uploads/sites/2334/2026/04/16054219/iration.png
END:VEVENT
BEGIN:VEVENT
DTSTART;TZID=America/Indiana/Indianapolis:20260523T183000
DTEND;TZID=America/Indiana/Indianapolis:20260523T233000
DTSTAMP:20260420T004532
CREATED:20260416T095047Z
LAST-MODIFIED:20260416T095047Z
UID:76588-1779561000-1779579000@www.961wkzq.com
SUMMARY:Iration
DESCRIPTION:Iration: Where It All Began Summer Tour 2026\n\nWith special guest Tribal Seeds\n\nLive Oak Bank Pavilion \n\nSaturday 5/23/26\n\nCLICK FOR MORE INFORMATION!
URL:https://www.961wkzq.com/event/iration-2/
LOCATION:Live Oak Bank Pavilion Wilmington
CATEGORIES:Concerts
ATTACH;FMTTYPE=image/png:https://dehayf5mhw1h7.cloudfront.net/wp-content/uploads/sites/2334/2026/04/16054847/iration-wilmington.png
END:VEVENT
BEGIN:VEVENT
DTSTART;TZID=America/Indiana/Indianapolis:20260526T183000
DTEND;TZID=America/Indiana/Indianapolis:20260526T223000
DTSTAMP:20260420T004532
CREATED:20260407T160214Z
LAST-MODIFIED:20260407T160214Z
UID:76488-1779820200-1779834600@www.961wkzq.com
SUMMARY:Tacos & Tallboys Tuesday with the Myrtle Beach Pelicans
DESCRIPTION:Enjoy $2 Tacos and $3 Tallboys every Tuesday courtesy of Corona\, Fiesta Mexicana\, WMBF News and 96.1 WKZQ. Tallboys offered are Corona & Modelo and will run for 2 hours beginning when gates open. Tacos are available while supplies last. Both items can be found in left field on the Budweiser Bowtie Deck. \nCLICK FOR TICKET INFORMATION!
URL:https://www.961wkzq.com/event/tacos-tallboys-tuesday-with-the-myrtle-beach-pelicans-3/
LOCATION:Pelicans Ballpark\, 1251 21st Ave N\, Myrtle Beach\, SC\, 29577\, United States
CATEGORIES:Community,On The Streets
ATTACH;FMTTYPE=image/png:https://dehayf5mhw1h7.cloudfront.net/wp-content/uploads/sites/2334/2026/03/25055347/tacos-tallboys-tuesday-5.png
END:VEVENT
BEGIN:VEVENT
DTSTART;TZID=America/Indiana/Indianapolis:20260608T190000
DTEND;TZID=America/Indiana/Indianapolis:20260608T233000
DTSTAMP:20260420T004532
CREATED:20260416T093507Z
LAST-MODIFIED:20260416T093507Z
UID:76580-1780945200-1780961400@www.961wkzq.com
SUMMARY:Jelly Roll
DESCRIPTION:Jelly Roll: The Little ASS Shed Tour\n\nWith special guest Kashus Culpepper\n\nLive Oak Bank Pavilion Wilmington\n\nMonday 6/8/26\n\nCLICK FOR MORE INFORMATION!
URL:https://www.961wkzq.com/event/jelly-roll/
LOCATION:Live Oak Bank Pavilion Wilmington
CATEGORIES:Concerts
ATTACH;FMTTYPE=image/png:https://dehayf5mhw1h7.cloudfront.net/wp-content/uploads/sites/2334/2026/04/16053448/jelly-roll.png
END:VEVENT
BEGIN:VEVENT
DTSTART;TZID=America/Indiana/Indianapolis:20260609T180000
DTEND;TZID=America/Indiana/Indianapolis:20260609T223000
DTSTAMP:20260420T004532
CREATED:20260407T160528Z
LAST-MODIFIED:20260407T160528Z
UID:76490-1781028000-1781044200@www.961wkzq.com
SUMMARY:Tacos & Tallboys Tuesday with the Myrtle Beach Pelicans
DESCRIPTION:Enjoy $2 Tacos and $3 Tallboys every Tuesday courtesy of Corona\, Fiesta Mexicana\, WMBF News and 96.1 WKZQ. Tallboys offered are Corona & Modelo and will run for 2 hours beginning when gates open. Tacos are available while supplies last. Both items can be found in left field on the Budweiser Bowtie Deck. \nCLICK FOR TICKET INFORMATION!
URL:https://www.961wkzq.com/event/tacos-tallboys-tuesday-with-the-myrtle-beach-pelicans-4/
LOCATION:Pelicans Ballpark\, 1251 21st Ave N\, Myrtle Beach\, SC\, 29577\, United States
CATEGORIES:Community,On The Streets
ATTACH;FMTTYPE=image/png:https://dehayf5mhw1h7.cloudfront.net/wp-content/uploads/sites/2334/2026/03/25055347/tacos-tallboys-tuesday-5.png
END:VEVENT
BEGIN:VEVENT
DTSTART;TZID=America/Indiana/Indianapolis:20260612T190000
DTEND;TZID=America/Indiana/Indianapolis:20260612T233000
DTSTAMP:20260420T004532
CREATED:20260416T143107Z
LAST-MODIFIED:20260416T143107Z
UID:76605-1781290800-1781307000@www.961wkzq.com
SUMMARY:Taking Back Sunday
DESCRIPTION:Taking Back Sunday \nWith Special Guests Bayside \nFriday 6/12/26 \nCLICK FOR MORE INFORMATION! \n 
URL:https://www.961wkzq.com/event/taking-back-sunday/
LOCATION:House of Blues Myrtle Beach
CATEGORIES:Concerts
ATTACH;FMTTYPE=image/png:https://dehayf5mhw1h7.cloudfront.net/wp-content/uploads/sites/2334/2026/03/20055340/taking-back-sunday-4.png
END:VEVENT
BEGIN:VEVENT
DTSTART;TZID=America/Indiana/Indianapolis:20260613T110000
DTEND;TZID=America/Indiana/Indianapolis:20260613T150000
DTSTAMP:20260420T004532
CREATED:20251215T152216Z
LAST-MODIFIED:20260102T125139Z
UID:74848-1781348400-1781362800@www.961wkzq.com
SUMMARY:Pride Pizza In The Park
DESCRIPTION:
URL:https://www.961wkzq.com/event/pride-pizza-in-the-park/
LOCATION:CHRSC Community Garden\, 772 Petigru Dr\, Georgetown\, SC\, 29440\, United States
CATEGORIES:Community Connections
ATTACH;FMTTYPE=image/png:https://dehayf5mhw1h7.cloudfront.net/wp-content/uploads/sites/2334/2025/12/15152216/pizza-in-the-park.png
END:VEVENT
BEGIN:VEVENT
DTSTART;TZID=America/Indiana/Indianapolis:20260619T190000
DTEND;TZID=America/Indiana/Indianapolis:20260619T233000
DTSTAMP:20260420T004532
CREATED:20260305T153758Z
LAST-MODIFIED:20260305T155640Z
UID:76011-1781895600-1781911800@www.961wkzq.com
SUMMARY:Darius Rucker
DESCRIPTION:Darius Rucker: Songs of Summer Tour 2026\nWith special guests George Birge and Austin Williams\nLive Oak Bank Pavilion Wilmington\, NC\nPart of the REEDS Jewelers Concert Series\nFriday 6/19/26 \nCLICK FOR MORE INFORMATION!
URL:https://www.961wkzq.com/event/darius-rucker/
LOCATION:Live Oak Bank Pavilion Wilmington
CATEGORIES:Community,Community Connections,Concerts
ATTACH;FMTTYPE=image/png:https://dehayf5mhw1h7.cloudfront.net/wp-content/uploads/sites/2334/2026/03/05153758/darius-rucker.png
END:VEVENT
BEGIN:VEVENT
DTSTART;TZID=America/Indiana/Indianapolis:20260620T190000
DTEND;TZID=America/Indiana/Indianapolis:20260620T233000
DTSTAMP:20260420T004532
CREATED:20260223T155900Z
LAST-MODIFIED:20260223T155930Z
UID:75802-1781982000-1781998200@www.961wkzq.com
SUMMARY:Cinderella's Tom Keifer
DESCRIPTION:Cinderella’s Tom Keifer \nWith LA Guns \nHouse of Blues Myrtle Beach \nSaturday 6/20/26…Doors at 7PM and Show at 8PM \nCLICK FOR MORE INFORMATION AND TO BUY TICKETS!
URL:https://www.961wkzq.com/event/cinderellas-tom-keifer/
LOCATION:House of Blues Myrtle Beach
CATEGORIES:Community,Community Connections,Concerts
ATTACH;FMTTYPE=image/png:https://dehayf5mhw1h7.cloudfront.net/wp-content/uploads/sites/2334/2026/02/23155900/cinderellas-tom-keifer-2.png
END:VEVENT
BEGIN:VEVENT
DTSTART;TZID=America/Indiana/Indianapolis:20260630T183000
DTEND;TZID=America/Indiana/Indianapolis:20260630T223000
DTSTAMP:20260420T004532
CREATED:20260407T160756Z
LAST-MODIFIED:20260407T160756Z
UID:76492-1782844200-1782858600@www.961wkzq.com
SUMMARY:Tacos & Tallboys Tuesday with the Myrtle Beach Pelicans
DESCRIPTION:Enjoy $2 Tacos and $3 Tallboys every Tuesday courtesy of Corona\, Fiesta Mexicana\, WMBF News and 96.1 WKZQ. Tallboys offered are Corona & Modelo and will run for 2 hours beginning when gates open. Tacos are available while supplies last. Both items can be found in left field on the Budweiser Bowtie Deck. \nCLICK FOR TICKET INFORMATION!
URL:https://www.961wkzq.com/event/tacos-tallboys-tuesday-with-the-myrtle-beach-pelicans-5/
LOCATION:Pelicans Ballpark\, 1251 21st Ave N\, Myrtle Beach\, SC\, 29577\, United States
CATEGORIES:Community,On The Streets
ATTACH;FMTTYPE=image/png:https://dehayf5mhw1h7.cloudfront.net/wp-content/uploads/sites/2334/2026/03/25055347/tacos-tallboys-tuesday-5.png
END:VEVENT
BEGIN:VEVENT
DTSTART;TZID=America/Indiana/Indianapolis:20260707T183000
DTEND;TZID=America/Indiana/Indianapolis:20260707T223000
DTSTAMP:20260420T004532
CREATED:20260407T162029Z
LAST-MODIFIED:20260407T162029Z
UID:76494-1783449000-1783463400@www.961wkzq.com
SUMMARY:Tacos & Tallboys Tuesday with the Myrtle Beach Pelicans
DESCRIPTION:Enjoy $2 Tacos and $3 Tallboys every Tuesday courtesy of Corona\, Fiesta Mexicana\, WMBF News and 96.1 WKZQ. Tallboys offered are Corona & Modelo and will run for 2 hours beginning when gates open. Tacos are available while supplies last. Both items can be found in left field on the Budweiser Bowtie Deck. \nCLICK FOR TICKET INFORMATION!
URL:https://www.961wkzq.com/event/tacos-tallboys-tuesday-with-the-myrtle-beach-pelicans-6/
LOCATION:Pelicans Ballpark\, 1251 21st Ave N\, Myrtle Beach\, SC\, 29577\, United States
CATEGORIES:Community,On The Streets
ATTACH;FMTTYPE=image/png:https://dehayf5mhw1h7.cloudfront.net/wp-content/uploads/sites/2334/2026/03/25055347/tacos-tallboys-tuesday-5.png
END:VEVENT
BEGIN:VEVENT
DTSTART;TZID=America/Indiana/Indianapolis:20260711T180000
DTEND;TZID=America/Indiana/Indianapolis:20260711T233000
DTSTAMP:20260420T004532
CREATED:20251104T081707Z
LAST-MODIFIED:20260102T125109Z
UID:74382-1783792800-1783812600@www.961wkzq.com
SUMMARY:AC/DC
DESCRIPTION:AC/DC: Power Up 2026 Tour \nWith Pretty Reckless \nBank of America Stadium \nSaturday 7/11/26 \nDoors at 6PM and Show at 7:30PM \nCLICK FOR MORE INFORMATION AND TO BUY TICKETS!
URL:https://www.961wkzq.com/event/ac-dc/
LOCATION:Bank of America Stadium Charlotte\, 800 S Mint St\, Charlotte\, NC\, 28202\, United States
CATEGORIES:Concerts
ATTACH;FMTTYPE=image/png:https://dehayf5mhw1h7.cloudfront.net/wp-content/uploads/sites/2334/2025/11/04081707/acdc.png
ORGANIZER;CN="AEG":MAILTO:accessibility@aegpresents.com
END:VEVENT
BEGIN:VEVENT
DTSTART;TZID=America/Indiana/Indianapolis:20260714T193000
DTEND;TZID=America/Indiana/Indianapolis:20260714T230000
DTSTAMP:20260420T004532
CREATED:20260331T100306Z
LAST-MODIFIED:20260331T100337Z
UID:76359-1784057400-1784070000@www.961wkzq.com
SUMMARY:Margaritaville Presents Jimmy Buffet’s Coral Reefer Band
DESCRIPTION:Margaritaville Presents Jimmy Buffet’s Coral Reefer Band\n\nKeep the Party Going Tour\n\nLive Oak Bank Pavilion Wilmington\, NC\n\nTuesday 7/14/26\n\nPart of the REEDS Jewelers Concert Series\n\nCLICK FOR MORE INFORMATION!
URL:https://www.961wkzq.com/event/margaritaville-presents-jimmy-buffets-coral-reefer-band/
LOCATION:Live Oak Bank Pavilion Wilmington
CATEGORIES:Concerts
ATTACH;FMTTYPE=image/png:https://dehayf5mhw1h7.cloudfront.net/wp-content/uploads/sites/2334/2026/03/31100306/untitled-design-50.png
END:VEVENT
BEGIN:VEVENT
DTSTART;TZID=America/Indiana/Indianapolis:20260723T180000
DTEND;TZID=America/Indiana/Indianapolis:20260723T233000
DTSTAMP:20260420T004532
CREATED:20251124T171531Z
LAST-MODIFIED:20260102T124813Z
UID:74628-1784829600-1784849400@www.961wkzq.com
SUMMARY:Guns N Roses
DESCRIPTION:Guns N Roses  \nThe 2026 World Tour  \nCarter-Finley Stadium Raleigh  \nThursday 7/23/26 \nCLICK FOR MORE INFORMATION!
URL:https://www.961wkzq.com/event/guns-n-roses/
LOCATION:Carter-Finley Stadium Raleigh\, 4600 Trinity Rd\, Raleigh\, NC\, 27607
CATEGORIES:Community Connections,Concerts
ATTACH;FMTTYPE=image/png:https://dehayf5mhw1h7.cloudfront.net/wp-content/uploads/sites/2334/2025/11/24171531/guns-n-roses-webslide.png
END:VEVENT
END:VCALENDAR